BEGIN:VCALENDAR
VERSION:2.0
PRODID:-//81.88.36.14//NONSGML kigkonsult.se iCalcreator 2.26.9//
CALSCALE:GREGORIAN
METHOD:PUBLISH
X-FROM-URL:https://www.apostolische-geschichte.de
X-WR-TIMEZONE:Europe/Berlin
BEGIN:VTIMEZONE
TZID:Europe/Berlin
X-LIC-LOCATION:Europe/Berlin
BEGIN:STANDARD
DTSTART:20251026T030000
TZOFFSETFROM:+0200
TZOFFSETTO:+0100
RDATE:20261025T030000
TZNAME:CET
END:STANDARD
BEGIN:DAYLIGHT
DTSTART:20260329T020000
TZOFFSETFROM:+0100
TZOFFSETTO:+0200
RDATE:20270328T020000
TZNAME:CEST
END:DAYLIGHT
END:VTIMEZONE
BEGIN:VEVENT
UID:4629041
DTSTAMP:20260424T164935Z
CATEGORIES:
CONTACT:
DESCRIPTION:<p>Anmeldung erforderlich auf apostolische-geschichte.de\, dann
  wird der Zugangslink verschickt!</p>
DTSTART;TZID=Europe/Berlin:20240130T193000
DTEND;TZID=Europe/Berlin:20240130T203000
LOCATION:virtuell
SEQUENCE:0
SUMMARY:Archiv\, Virtueller Gesprächsabend: Was gibt es Neues bei den Apost
 olischen 2023/2024?
URL:https://www.apostolische-geschichte.de/Veranstaltung/archiv-virtueller-
 gespraechsabend-was-gibt-es-neues-bei-den-apostolischen-2023-2024/
END:VEVENT
BEGIN:VEVENT
UID:4629036
DTSTAMP:20260424T164935Z
CATEGORIES:
CONTACT:
DESCRIPTION:<p>Anmeldung erforderlich auf apostolische-geschichte.de\, dann
  wird der Zugangslink verschickt!</p>
DTSTART;TZID=Europe/Berlin:20240206T190000
DTEND;TZID=Europe/Berlin:20240206T200000
LOCATION:virtuell
SEQUENCE:0
SUMMARY:Virtueller Vortrag: Einführung in apost. Kirchengeschichte. Teil 1\
 , 1820-1890
URL:https://www.apostolische-geschichte.de/Veranstaltung/virtueller-vortrag
 -einfuehrung-in-apost-kirchengeschichte-teil-1-1820-1890/
END:VEVENT
BEGIN:VEVENT
UID:4629037
DTSTAMP:20260424T164935Z
CATEGORIES:
CONTACT:
DESCRIPTION:<p>Alle sind herzlich willkommen! Öffentliche Übertragung per Y
 ouTube ist geplant.</p>
DTSTART;TZID=Europe/Berlin:20240224T160000
DTEND;TZID=Europe/Berlin:20240224T170000
LOCATION:Archiv Brockhagen\, Uhlandstraße 6\, 33803 Steinhagen
SEQUENCE:0
SUMMARY:Archiv Brockhagen\, Vortrag: Als Apostolische:r Theologie studieren
 : (Wie) Geht das?
URL:https://www.apostolische-geschichte.de/Veranstaltung/archiv-brockhagen-
 vortrag-als-apostolischer-theologie-studieren-wie-geht-das/
END:VEVENT
BEGIN:VEVENT
UID:4629038
DTSTAMP:20260424T164935Z
CATEGORIES:
CONTACT:
DESCRIPTION:<p>Anmeldung erforderlich auf apostolische-geschichte.de\, dann
  wird der Zugangslink verschickt!</p>
DTSTART;TZID=Europe/Berlin:20240227T190000
DTEND;TZID=Europe/Berlin:20240227T200000
LOCATION:virtuell
SEQUENCE:0
SUMMARY:Virtueller Vortrag: Einführung in apost. Kirchengeschichte. Teil 2\
 , 1930-1960
URL:https://www.apostolische-geschichte.de/Veranstaltung/virtueller-vortrag
 -einfuehrung-in-apost-kirchengeschichte-teil-2-1930-1960/
END:VEVENT
BEGIN:VEVENT
UID:4629039
DTSTAMP:20260424T164935Z
CATEGORIES:
CONTACT:
DESCRIPTION:<p>Anmeldung erforderlich auf apostolische-geschichte.de\, dann
  wird der Zugangslink verschickt!</p>
DTSTART;TZID=Europe/Berlin:20240312T190000
DTEND;TZID=Europe/Berlin:20240312T200000
LOCATION:virtuell
SEQUENCE:0
SUMMARY:Virtueller Vortrag: Einführung in apost. Kirchengeschichte. Teil 3\
 , 1960 bis heute
URL:https://www.apostolische-geschichte.de/Veranstaltung/virtueller-vortrag
 -einfuehrung-in-apost-kirchengeschichte-teil-3-1960-bis-heute/
END:VEVENT
BEGIN:VEVENT
UID:4629032
DTSTAMP:20260424T164935Z
CATEGORIES:
CONTACT:
DESCRIPTION:<p>HelferInnen sind herzlich willkommen!</p>
DTSTART;TZID=Europe/Berlin:20240323T150000
DTEND;TZID=Europe/Berlin:20240323T160000
LOCATION:Archiv Brockhagen\, Uhlandstraße 6\, 33803 Steinhagen
SEQUENCE:0
SUMMARY:Archiv Brockhagen: Gartengruppe
URL:https://www.apostolische-geschichte.de/Veranstaltung/archiv-brockhagen-
 gartengruppe-2/
END:VEVENT
BEGIN:VEVENT
UID:4629034
DTSTAMP:20260424T164935Z
CATEGORIES:
CONTACT:
DESCRIPTION:<p>MitsängerInnen sind herzlich willkommen!</p>
DTSTART;TZID=Europe/Berlin:20240323T170000
DTEND;TZID=Europe/Berlin:20240323T180000
LOCATION:Archiv Brockhagen\, Uhlandstraße 6\, 33803 Steinhagen
SEQUENCE:0
SUMMARY:Archiv Brockhagen: Archivchor probt
URL:https://www.apostolische-geschichte.de/Veranstaltung/archiv-brockhagen-
 archivchor-probt/
END:VEVENT
BEGIN:VEVENT
UID:4629042
DTSTAMP:20260424T164935Z
CATEGORIES:
CONTACT:
DESCRIPTION:<p>Anmeldung erforderlich auf apostolische-geschichte.de\, dann
  wird der Zugangslink verschickt!</p>
DTSTART;TZID=Europe/Berlin:20240409T193000
DTEND;TZID=Europe/Berlin:20240409T203000
LOCATION:virtuell
SEQUENCE:0
SUMMARY:Archiv\, Virtueller Gesprächsabend: Zehn Jahre Versöhnungserklärung
  zwischen NAK und VAG: Was hat sich getan?
URL:https://www.apostolische-geschichte.de/Veranstaltung/archiv-virtueller-
 gespraechsabend-zehn-jahre-versoehnungserklaerung-zwischen-nak-und-vag-was
 -hat-sich-getan/
END:VEVENT
BEGIN:VEVENT
UID:4629040
DTSTAMP:20260424T164935Z
CATEGORIES:
CONTACT:
DESCRIPTION:<p>MitsängerInnen sind herzlich willkommen!</p>
DTSTART;TZID=Europe/Berlin:20240420T150000
DTEND;TZID=Europe/Berlin:20240420T160000
LOCATION:Archiv Brockhagen\, Uhlandstraße 6\, 33803 Steinhagen
SEQUENCE:0
SUMMARY:Archiv\, Workshop und Chorprobe: Psalmen – Gebetsfaden durch Epoche
 n und Konfessionen
URL:https://www.apostolische-geschichte.de/Veranstaltung/archiv-workshop-un
 d-chorprobe-psalmen-gebetsfaden-durch-epochen-und-konfessionen/
END:VEVENT
BEGIN:VEVENT
UID:4629044
DTSTAMP:20260424T164935Z
CATEGORIES:
CONTACT:
DESCRIPTION:<p>Anmeldung erforderlich auf apostolische-geschichte.de\, dann
  wird der Zugangslink verschickt!</p>
DTSTART;TZID=Europe/Berlin:20240507T193000
DTEND;TZID=Europe/Berlin:20240507T203000
LOCATION:virtuell
SEQUENCE:0
SUMMARY:Archiv\, Virtueller Vortrag: Hundert Jahre Berliner Schulchor der N
 AK
URL:https://www.apostolische-geschichte.de/Veranstaltung/archiv-virtueller-
 vortrag-hundert-jahre-berliner-schulchor-der-nak/
END:VEVENT
BEGIN:VEVENT
UID:4629033
DTSTAMP:20260424T164935Z
CATEGORIES:
CONTACT:
DESCRIPTION:<p>HelferInnen sind herzlich willkommen!</p>
DTSTART;TZID=Europe/Berlin:20240518T150000
DTEND;TZID=Europe/Berlin:20240518T160000
LOCATION:Archiv Brockhagen\, Uhlandstraße 6\, 33803 Steinhagen
SEQUENCE:0
SUMMARY:Archiv Brockhagen: Gartengruppe
URL:https://www.apostolische-geschichte.de/Veranstaltung/archiv-brockhagen-
 gartengruppe/
END:VEVENT
BEGIN:VEVENT
UID:4629035
DTSTAMP:20260424T164935Z
CATEGORIES:
CONTACT:
DESCRIPTION:<p>MitsängerInnen sind herzlich willkommen!</p>
DTSTART;TZID=Europe/Berlin:20240518T170000
DTEND;TZID=Europe/Berlin:20240518T180000
LOCATION:Archiv Brockhagen\, Uhlandstraße 6\, 33803 Steinhagen
SEQUENCE:0
SUMMARY:Archiv Brockhagen: Archivchor probt
URL:https://www.apostolische-geschichte.de/Veranstaltung/archiv-brockhagen-
 archivchor-probt-2/
END:VEVENT
BEGIN:VEVENT
UID:4629045
DTSTAMP:20260424T164935Z
CATEGORIES:
CONTACT:
DESCRIPTION:<p>Alle sind herzlich willkommen! Öffentliche Übertragung per Y
 ouTube ist geplant.</p>
DTSTART;TZID=Europe/Berlin:20240608T170000
DTEND;TZID=Europe/Berlin:20240608T180000
LOCATION:Archiv Brockhagen\, Uhlandstraße 6\, 33803 Steinhagen
SEQUENCE:0
SUMMARY:Archiv\, Konzert: Psalmen – Gebetsfaden durch Epochen und Konfessio
 nen
URL:https://www.apostolische-geschichte.de/Veranstaltung/archiv-konzert-psa
 lmen-gebetsfaden-durch-epochen-und-konfessionen/
END:VEVENT
BEGIN:VEVENT
UID:4629043
DTSTAMP:20260424T164935Z
CATEGORIES:
CONTACT:
DESCRIPTION:<p>Anmeldung erforderlich auf apostolische-geschichte.de\, dann
  wird der Zugangslink verschickt!</p>
DTSTART;TZID=Europe/Berlin:20240625T193000
DTEND;TZID=Europe/Berlin:20240625T203000
LOCATION:virtuell
SEQUENCE:0
SUMMARY:Archiv\, Virtueller Gesprächsabend: Rückblick auf den SKT 2024 der 
 Neuapostolischen Kirche
URL:https://www.apostolische-geschichte.de/Veranstaltung/archiv-virtueller-
 gespraechsabend-rueckblick-auf-den-skt-2024-der-neuapostolischen-kirche/
END:VEVENT
BEGIN:VEVENT
UID:4629046
DTSTAMP:20260424T164935Z
CATEGORIES:
CONTACT:
DESCRIPTION:<p>Alle sind herzlich willkommen! Öffentliche Übertragung per Y
 ouTube ist geplant.</p>
DTSTART;TZID=Europe/Berlin:20240714T180000
DTEND;TZID=Europe/Berlin:20240714T190000
LOCATION:Archiv Brockhagen\, Uhlandstraße 6\, 33803 Steinhagen
SEQUENCE:0
SUMMARY:Archiv\, Gedenkstunde: Aussonderung der Apostel vor 189 Jahren
URL:https://www.apostolische-geschichte.de/Veranstaltung/archiv-gedenkstund
 e-aussonderung-der-apostel-vor-189-jahren/
END:VEVENT
END:VCALENDAR
